BEGIN:VCALENDAR
VERSION:2.0
PRODID:-//Something Extra Preschool &amp; Childcare - ECPv6.15.20//NONSGML v1.0//EN
CALSCALE:GREGORIAN
METHOD:PUBLISH
X-WR-CALNAME:Something Extra Preschool &amp; Childcare
X-ORIGINAL-URL:https://somethingextrapreschool.com
X-WR-CALDESC:Events for Something Extra Preschool &amp; Childcare
REFRESH-INTERVAL;VALUE=DURATION:PT1H
X-Robots-Tag:noindex
X-PUBLISHED-TTL:PT1H
BEGIN:VTIMEZONE
TZID:UTC
BEGIN:STANDARD
TZOFFSETFROM:+0000
TZOFFSETTO:+0000
TZNAME:UTC
DTSTART:20170101T000000
END:STANDARD
END:VTIMEZONE
BEGIN:VEVENT
DTSTART;VALUE=DATE:20180706
DTEND;VALUE=DATE:20180707
DTSTAMP:20260421T153516
CREATED:20180423T182109Z
LAST-MODIFIED:20180423T182109Z
UID:514-1530835200-1530921599@somethingextrapreschool.com
SUMMARY:Swim Day
DESCRIPTION:
URL:https://somethingextrapreschool.com/event/swim-day-4/
END:VEVENT
BEGIN:VEVENT
DTSTART;VALUE=DATE:20180713
DTEND;VALUE=DATE:20180714
DTSTAMP:20260421T153516
CREATED:20180423T182125Z
LAST-MODIFIED:20180423T182125Z
UID:516-1531440000-1531526399@somethingextrapreschool.com
SUMMARY:Swim Day
DESCRIPTION:
URL:https://somethingextrapreschool.com/event/swim-day-5/
END:VEVENT
BEGIN:VEVENT
DTSTART;VALUE=DATE:20180720
DTEND;VALUE=DATE:20180721
DTSTAMP:20260421T153516
CREATED:20180423T182148Z
LAST-MODIFIED:20180423T182148Z
UID:518-1532044800-1532131199@somethingextrapreschool.com
SUMMARY:Swim Day
DESCRIPTION:
URL:https://somethingextrapreschool.com/event/swim-day-6/
END:VEVENT
BEGIN:VEVENT
DTSTART;VALUE=DATE:20180727
DTEND;VALUE=DATE:20180728
DTSTAMP:20260421T153516
CREATED:20180423T182205Z
LAST-MODIFIED:20180423T182205Z
UID:520-1532649600-1532735999@somethingextrapreschool.com
SUMMARY:Swim Day
DESCRIPTION:
URL:https://somethingextrapreschool.com/event/swim-day-7/
END:VEVENT
END:VCALENDAR