BEGIN:VCALENDAR
VERSION:2.0
PRODID:-//Something Extra Preschool &amp; Childcare - ECPv6.15.20//NONSGML v1.0//EN
CALSCALE:GREGORIAN
METHOD:PUBLISH
X-ORIGINAL-URL:https://somethingextrapreschool.com
X-WR-CALDESC:Events for Something Extra Preschool &amp; Childcare
REFRESH-INTERVAL;VALUE=DURATION:PT1H
X-Robots-Tag:noindex
X-PUBLISHED-TTL:PT1H
BEGIN:VTIMEZONE
TZID:UTC
BEGIN:STANDARD
TZOFFSETFROM:+0000
TZOFFSETTO:+0000
TZNAME:UTC
DTSTART:20170101T000000
END:STANDARD
END:VTIMEZONE
BEGIN:VEVENT
DTSTART;VALUE=DATE:20180604
DTEND;VALUE=DATE:20180605
DTSTAMP:20260421T171106
CREATED:20180423T181858Z
LAST-MODIFIED:20180423T182836Z
UID:502-1528070400-1528156799@somethingextrapreschool.com
SUMMARY:Summer Program Begins
DESCRIPTION:
URL:https://somethingextrapreschool.com/event/summer-program-begins/
END:VEVENT
BEGIN:VEVENT
DTSTART;VALUE=DATE:20180608
DTEND;VALUE=DATE:20180609
DTSTAMP:20260421T171106
CREATED:20180423T181916Z
LAST-MODIFIED:20180423T181916Z
UID:504-1528416000-1528502399@somethingextrapreschool.com
SUMMARY:Swim Day
DESCRIPTION:
URL:https://somethingextrapreschool.com/event/swim-day/
END:VEVENT
BEGIN:VEVENT
DTSTART;VALUE=DATE:20180615
DTEND;VALUE=DATE:20180616
DTSTAMP:20260421T171106
CREATED:20180423T181934Z
LAST-MODIFIED:20180423T181934Z
UID:506-1529020800-1529107199@somethingextrapreschool.com
SUMMARY:Father's Day Ice Cream Social
DESCRIPTION:
URL:https://somethingextrapreschool.com/event/fathers-day-ice-cream-social/
END:VEVENT
BEGIN:VEVENT
DTSTART;VALUE=DATE:20180622
DTEND;VALUE=DATE:20180623
DTSTAMP:20260421T171106
CREATED:20180423T182005Z
LAST-MODIFIED:20180423T182005Z
UID:508-1529625600-1529711999@somethingextrapreschool.com
SUMMARY:Swim Day
DESCRIPTION:
URL:https://somethingextrapreschool.com/event/swim-day-2/
END:VEVENT
BEGIN:VEVENT
DTSTART;VALUE=DATE:20180629
DTEND;VALUE=DATE:20180630
DTSTAMP:20260421T171106
CREATED:20180423T182026Z
LAST-MODIFIED:20180423T182026Z
UID:510-1530230400-1530316799@somethingextrapreschool.com
SUMMARY:Swim Day
DESCRIPTION:
URL:https://somethingextrapreschool.com/event/swim-day-3/
END:VEVENT
END:VCALENDAR